BEGIN:VCALENDAR
VERSION:2.0
PRODID:-//Wheaton Christian - ECPv6.15.17.1//NONSGML v1.0//EN
CALSCALE:GREGORIAN
METHOD:PUBLISH
X-WR-CALNAME:Wheaton Christian
X-ORIGINAL-URL:https://wheatonchristian.org
X-WR-CALDESC:Events for Wheaton Christian
REFRESH-INTERVAL;VALUE=DURATION:PT1H
X-Robots-Tag:noindex
X-PUBLISHED-TTL:PT1H
BEGIN:VTIMEZONE
TZID:America/Chicago
BEGIN:DAYLIGHT
TZOFFSETFROM:-0600
TZOFFSETTO:-0500
TZNAME:CDT
DTSTART:20250309T080000
END:DAYLIGHT
BEGIN:STANDARD
TZOFFSETFROM:-0500
TZOFFSETTO:-0600
TZNAME:CST
DTSTART:20251102T070000
END:STANDARD
BEGIN:DAYLIGHT
TZOFFSETFROM:-0600
TZOFFSETTO:-0500
TZNAME:CDT
DTSTART:20260308T080000
END:DAYLIGHT
BEGIN:STANDARD
TZOFFSETFROM:-0500
TZOFFSETTO:-0600
TZNAME:CST
DTSTART:20261101T070000
END:STANDARD
BEGIN:DAYLIGHT
TZOFFSETFROM:-0600
TZOFFSETTO:-0500
TZNAME:CDT
DTSTART:20270314T080000
END:DAYLIGHT
BEGIN:STANDARD
TZOFFSETFROM:-0500
TZOFFSETTO:-0600
TZNAME:CST
DTSTART:20271107T070000
END:STANDARD
END:VTIMEZONE
BEGIN:VEVENT
DTSTART;VALUE=DATE:20260514
DTEND;VALUE=DATE:20260515
DTSTAMP:20260424T141342
CREATED:20240404T185233Z
LAST-MODIFIED:20260407T193258Z
UID:6135-1778716800-1778803199@wheatonchristian.org
SUMMARY:Girls' Soccer SWAC Tournament @ Westminster Christian
DESCRIPTION:Girls’ Soccer SWAC Tournament @ Westminster Christian
URL:https://wheatonchristian.org/event/girls-soccer-swac-tournament-at-elgin-academy-2/
CATEGORIES:Athletics,Girls Varsity Girls Soccer
END:VEVENT
BEGIN:VEVENT
DTSTART;TZID=America/Chicago:20260515T140000
DTEND;TZID=America/Chicago:20260515T160000
DTSTAMP:20260424T141342
CREATED:20250213T161839Z
LAST-MODIFIED:20260407T194137Z
UID:7201-1778853600-1778860800@wheatonchristian.org
SUMMARY:Co-Ed Track Meet - IESA Sectionals @ Chicago Hope Academy
DESCRIPTION:Co-Ed Track Meet – IESA Sectionals @ Chicago Hope Academy
URL:https://wheatonchristian.org/event/co-ed-track-meet-iesa-sectionals/
CATEGORIES:Athletics,Coed Varsity Track and Field
END:VEVENT
BEGIN:VEVENT
DTSTART;VALUE=DATE:20260516
DTEND;VALUE=DATE:20260517
DTSTAMP:20260424T141342
CREATED:20260407T193313Z
LAST-MODIFIED:20260407T193313Z
UID:8700-1778889600-1778975999@wheatonchristian.org
SUMMARY:Girls' Soccer SWAC Tournament @ Westminster Christian
DESCRIPTION:Girls’ Soccer SWAC Tournament @ Westminster Christian
URL:https://wheatonchristian.org/event/girls-soccer-swac-tournament-westminster-christian/
CATEGORIES:Athletics,Girls Varsity Girls Soccer
END:VEVENT
END:VCALENDAR