BEGIN:VCALENDAR
VERSION:2.0
PRODID:-//Wheaton Christian - ECPv6.15.17.1//NONSGML v1.0//EN
CALSCALE:GREGORIAN
METHOD:PUBLISH
X-ORIGINAL-URL:https://wheatonchristian.org
X-WR-CALDESC:Events for Wheaton Christian
REFRESH-INTERVAL;VALUE=DURATION:PT1H
X-Robots-Tag:noindex
X-PUBLISHED-TTL:PT1H
BEGIN:VTIMEZONE
TZID:America/Chicago
BEGIN:DAYLIGHT
TZOFFSETFROM:-0600
TZOFFSETTO:-0500
TZNAME:CDT
DTSTART:20250309T080000
END:DAYLIGHT
BEGIN:STANDARD
TZOFFSETFROM:-0500
TZOFFSETTO:-0600
TZNAME:CST
DTSTART:20251102T070000
END:STANDARD
BEGIN:DAYLIGHT
TZOFFSETFROM:-0600
TZOFFSETTO:-0500
TZNAME:CDT
DTSTART:20260308T080000
END:DAYLIGHT
BEGIN:STANDARD
TZOFFSETFROM:-0500
TZOFFSETTO:-0600
TZNAME:CST
DTSTART:20261101T070000
END:STANDARD
BEGIN:DAYLIGHT
TZOFFSETFROM:-0600
TZOFFSETTO:-0500
TZNAME:CDT
DTSTART:20270314T080000
END:DAYLIGHT
BEGIN:STANDARD
TZOFFSETFROM:-0500
TZOFFSETTO:-0600
TZNAME:CST
DTSTART:20271107T070000
END:STANDARD
END:VTIMEZONE
BEGIN:VEVENT
DTSTART;TZID=America/Chicago:20260409T160000
DTEND;TZID=America/Chicago:20260409T180000
DTSTAMP:20260422T015217
CREATED:20240403T210610Z
LAST-MODIFIED:20260407T193444Z
UID:6123-1775750400-1775757600@wheatonchristian.org
SUMMARY:Co-Ed Track Meet at Benjamin MS
DESCRIPTION:Co-Ed Track Meet at Benjamin MS
URL:https://wheatonchristian.org/event/co-ed-track-meet-at-benjamin-ms/
CATEGORIES:Athletics,Coed Varsity Track and Field
END:VEVENT
BEGIN:VEVENT
DTSTART;TZID=America/Chicago:20260409T160000
DTEND;TZID=America/Chicago:20260409T180000
DTSTAMP:20260422T015217
CREATED:20250313T161930Z
LAST-MODIFIED:20260407T195655Z
UID:7242-1775750400-1775757600@wheatonchristian.org
SUMMARY:Girls' JV & V Soccer Games vs. Harvest-Westminster @ Westminster Christian
DESCRIPTION:Girls’ JV & V Soccer Games vs. Harvest-Westminster @ Westminster Christian \nVarsity Game – 4:00 p.m. \nJV Game – 5:00 p.m.
URL:https://wheatonchristian.org/event/girls-soccer-game-harvest-christian/
CATEGORIES:Athletics,Girls Varsity Girls Soccer
END:VEVENT
END:VCALENDAR