BEGIN:VCALENDAR
VERSION:2.0
PRODID:-//Wheaton Christian - ECPv6.15.17.1//NONSGML v1.0//EN
CALSCALE:GREGORIAN
METHOD:PUBLISH
X-WR-CALNAME:Wheaton Christian
X-ORIGINAL-URL:https://wheatonchristian.org
X-WR-CALDESC:Events for Wheaton Christian
REFRESH-INTERVAL;VALUE=DURATION:PT1H
X-Robots-Tag:noindex
X-PUBLISHED-TTL:PT1H
BEGIN:VTIMEZONE
TZID:America/Chicago
BEGIN:DAYLIGHT
TZOFFSETFROM:-0600
TZOFFSETTO:-0500
TZNAME:CDT
DTSTART:20250309T080000
END:DAYLIGHT
BEGIN:STANDARD
TZOFFSETFROM:-0500
TZOFFSETTO:-0600
TZNAME:CST
DTSTART:20251102T070000
END:STANDARD
BEGIN:DAYLIGHT
TZOFFSETFROM:-0600
TZOFFSETTO:-0500
TZNAME:CDT
DTSTART:20260308T080000
END:DAYLIGHT
BEGIN:STANDARD
TZOFFSETFROM:-0500
TZOFFSETTO:-0600
TZNAME:CST
DTSTART:20261101T070000
END:STANDARD
BEGIN:DAYLIGHT
TZOFFSETFROM:-0600
TZOFFSETTO:-0500
TZNAME:CDT
DTSTART:20270314T080000
END:DAYLIGHT
BEGIN:STANDARD
TZOFFSETFROM:-0500
TZOFFSETTO:-0600
TZNAME:CST
DTSTART:20271107T070000
END:STANDARD
END:VTIMEZONE
BEGIN:VEVENT
DTSTART;VALUE=DATE:20260422
DTEND;VALUE=DATE:20260424
DTSTAMP:20260425T054217
CREATED:20250624T200054Z
LAST-MODIFIED:20250624T200054Z
UID:7418-1776816000-1776988799@wheatonchristian.org
SUMMARY:MAP Growth Testing (Grades K-1)
DESCRIPTION:
URL:https://wheatonchristian.org/event/map-growth-testing-grades-k-1-6/
CATEGORIES:School
END:VEVENT
BEGIN:VEVENT
DTSTART;VALUE=DATE:20260423
DTEND;VALUE=DATE:20260424
DTSTAMP:20260425T054217
CREATED:20240625T161637Z
LAST-MODIFIED:20260413T193615Z
UID:6446-1776902400-1776988799@wheatonchristian.org
SUMMARY:Sunset Slush Day
DESCRIPTION:
URL:https://wheatonchristian.org/event/sunset-slush-day-25/
LOCATION:The Commons
CATEGORIES:School
END:VEVENT
BEGIN:VEVENT
DTSTART;TZID=America/Chicago:20260423T160000
DTEND;TZID=America/Chicago:20260423T180000
DTSTAMP:20260425T054217
CREATED:20240516T152247Z
LAST-MODIFIED:20260407T193600Z
UID:6222-1776960000-1776967200@wheatonchristian.org
SUMMARY:Co-Ed Track Meet at Christian Liberty
DESCRIPTION:Co-Ed Track Meet at Christian Liberty
URL:https://wheatonchristian.org/event/co-ed-track-meet-at-timothy-christian-2/
CATEGORIES:Athletics,Coed Varsity Track and Field
END:VEVENT
BEGIN:VEVENT
DTSTART;TZID=America/Chicago:20260423T160000
DTEND;TZID=America/Chicago:20260423T180000
DTSTAMP:20260425T054217
CREATED:20260407T192436Z
LAST-MODIFIED:20260407T195620Z
UID:8698-1776960000-1776967200@wheatonchristian.org
SUMMARY:Girls' JV & V Soccer Games vs. Harvest-Westminster (WCGS)
DESCRIPTION:Girls’ JV & V Soccer Games vs. Harvest-Westminster (WCGS) \nVarsity Game – 4:00 p.m. \nJV Game – 5:00 p.m.
URL:https://wheatonchristian.org/event/girls-soccer-games-vs-harvest-westminster-wcgs/
CATEGORIES:Athletics,Girls Varsity Girls Soccer
END:VEVENT
END:VCALENDAR